BEGIN:VCALENDAR
VERSION:2.0
PRODID:-//OmniMagnetCalendar//EN
BEGIN:VEVENT
DTSTAMP:20190625T195740Z
STATUS:CONFIRMED
UID:hceasternmichigan.clubs.harvard.edu203
DTSTART:20201211T000000Z
DTEND:
LOCATION:Virtual,
SUMMARY:Conversation with Harvard Men's Basketball Coach, Tommy Amaker
DESCRIPTION:We hope you can join us for our conversation on Thursday, December 10 at 7:00 EST. Coach Amaker will offer remarks about his coaching philosophy and experience at Harvard, followed by Q&A.
BEGIN:VALARM
TRIGGER:-PT15M
ACTION:DISPLAY
END:VALARM
TRANSP:OPAQUE
END:VEVENT
END:VCALENDAR
