BEGIN:VCALENDAR
VERSION:2.0
PRODID:-//OmniMagnetCalendar//EN
BEGIN:VEVENT
DTSTAMP:20190625T195740Z
STATUS:CONFIRMED
UID:hceasternmichigan.clubs.harvard.edu211
DTSTART:20210423T200000Z
DTEND:20210423T220000Z
LOCATION:Royal Park - Park 600 , 600 E University Dr, Rochester, MI, 48307, USA,
SUMMARY:Park 600 Dinner Meeting
DESCRIPTION:Harvard Club of Detroit - Dinner Meeting at Park 600 in Rochester, MI
BEGIN:VALARM
TRIGGER:-PT15M
ACTION:DISPLAY
END:VALARM
TRANSP:OPAQUE
END:VEVENT
END:VCALENDAR
