BEGIN:VCALENDAR
VERSION:2.0
PRODID:-//OmniMagnetCalendar//EN
BEGIN:VEVENT
DTSTAMP:20190625T195740Z
STATUS:CONFIRMED
UID:hceasternmichigan.clubs.harvard.edu214
DTSTART:20210602T213000Z
DTEND:20210602T223000Z
LOCATION:Virtual,
SUMMARY:Online Harvard Museum tour
DESCRIPTION:Tour:  World in a Vessel  -  June 2, 2021 5:30-6:30 pm
BEGIN:VALARM
TRIGGER:-PT15M
ACTION:DISPLAY
END:VALARM
TRANSP:OPAQUE
END:VEVENT
END:VCALENDAR
