BEGIN:VCALENDAR
VERSION:2.0
PRODID:-//OmniMagnetCalendar//EN
BEGIN:VEVENT
DTSTAMP:20190625T195740Z
STATUS:CONFIRMED
UID:hceasternmichigan.clubs.harvard.edu216
DTSTART:20211205T233000Z
DTEND:20211206T001500Z
LOCATION:TBD,
SUMMARY:Andrea Bocelli Live
DESCRIPTION:Pre-Concert Drinks & Jubilation in Detroit   Location:  Mixing Board at Little Caesars Arena Ring in the holiday season with us!
BEGIN:VALARM
TRIGGER:-PT15M
ACTION:DISPLAY
END:VALARM
TRANSP:OPAQUE
END:VEVENT
END:VCALENDAR
