BEGIN:VCALENDAR
VERSION:2.0
PRODID:-//OmniMagnetCalendar//EN
BEGIN:VEVENT
DTSTAMP:20190625T195740Z
STATUS:CONFIRMED
UID:hceasternmichigan.clubs.harvard.edu218
DTSTART:20210713T213000Z
DTEND:20210714T000000Z
LOCATION:The Royal Eagle Restaurant at St. Sabbas Monastery, 18745 Old Homestead Dr., Harper Woods, MI, 48225, USA,
SUMMARY:Harvard Club of Detroit - International Epicurean Exploration
DESCRIPTION:Join the Club for a delectable feast of the senses, as we privately tour St. Sabbas Orthodox Monastery and partake in a 5-course meal of Eastern European cuisine in the royal style of Russian Tsar Nicholas  II.
BEGIN:VALARM
TRIGGER:-PT15M
ACTION:DISPLAY
END:VALARM
TRANSP:OPAQUE
END:VEVENT
END:VCALENDAR
