BEGIN:VCALENDAR
VERSION:2.0
PRODID:-//OmniMagnetCalendar//EN
BEGIN:VEVENT
DTSTAMP:20190625T195740Z
STATUS:CONFIRMED
UID:hceasternmichigan.clubs.harvard.edu219
DTSTART:20210727T203000Z
DTEND:20210727T223000Z
LOCATION:Michigan Union - Rogel Ballroom (2nd floor), 530 S. State St., Ann Arbor, MI, 48109,
SUMMARY:U-M President Dr. Mark Schlissel
DESCRIPTION:Harvard Club of Detroit will host a dinner reception with Dr. Mark Schlissel, the 14th President of the University of Michigan.
BEGIN:VALARM
TRIGGER:-PT15M
ACTION:DISPLAY
END:VALARM
TRANSP:OPAQUE
END:VEVENT
END:VCALENDAR
