BEGIN:VCALENDAR
VERSION:2.0
PRODID:-//OmniMagnetCalendar//EN
BEGIN:VEVENT
DTSTAMP:20190625T195740Z
STATUS:CONFIRMED
UID:hceasternmichigan.clubs.harvard.edu221
DTSTART:20211120T170000Z
DTEND:20211120T210000Z
LOCATION:Granite City Brewery, 699 W. Big Beaver, Troy, MI, 48084, USA,
SUMMARY:THE GAME:  Harvard vs Yale 2021 Watch Party
DESCRIPTION:Location:  Granite City Brewery Troy                The Game is back!  A rivalry like no other.
BEGIN:VALARM
TRIGGER:-PT15M
ACTION:DISPLAY
END:VALARM
TRANSP:OPAQUE
END:VEVENT
END:VCALENDAR
