BEGIN:VCALENDAR
VERSION:2.0
PRODID:-//OmniMagnetCalendar//EN
BEGIN:VEVENT
DTSTAMP:20190625T195740Z
STATUS:CONFIRMED
UID:hceasternmichigan.clubs.harvard.edu222
DTSTART:20211114T190000Z
DTEND:20211114T210000Z
LOCATION:Topgolf, 500 Great Lakes Crossing Dr., Auburn Hills, MI, 48326, USA,
SUMMARY:Topgolf Event
DESCRIPTION:Join the Club for an active outing at Topgolf
BEGIN:VALARM
TRIGGER:-PT15M
ACTION:DISPLAY
END:VALARM
TRANSP:OPAQUE
END:VEVENT
END:VCALENDAR
