BEGIN:VCALENDAR
VERSION:2.0
PRODID:-//OmniMagnetCalendar//EN
BEGIN:VEVENT
DTSTAMP:20190625T195740Z
STATUS:CONFIRMED
UID:hceasternmichigan.clubs.harvard.edu225
DTSTART:20220522T170000Z
DTEND:20220522T190000Z
LOCATION:Detroit Yacht Club, One Riverbank Rd., Detroit, MI, 48207, USA,
SUMMARY:Harvard Club of Detroit - Detroit Yacht Club Luncheon & Belle Isle Park
DESCRIPTION:Join the Club for an unforgettable springtime luncheon at the esteemed Detroit Yacht Club, followed by an optional self-guided Belle Isle Park tour.
BEGIN:VALARM
TRIGGER:-PT15M
ACTION:DISPLAY
END:VALARM
TRANSP:OPAQUE
END:VEVENT
END:VCALENDAR
