BEGIN:VCALENDAR
VERSION:2.0
PRODID:-//OmniMagnetCalendar//EN
BEGIN:VEVENT
DTSTAMP:20190625T195740Z
STATUS:CONFIRMED
UID:hceasternmichigan.clubs.harvard.edu227
DTSTART:20220925T170000Z
DTEND:20220925T183000Z
LOCATION:Saarinen House at Cranbrook Art Museum, 39221 Woodward Ave., Bloomfield Hills, MI, 48303, USA,
SUMMARY:Saarinen House
DESCRIPTION:Join the Club for a private tour of the Saarinen House at Cranbrook
BEGIN:VALARM
TRIGGER:-PT15M
ACTION:DISPLAY
END:VALARM
TRANSP:OPAQUE
END:VEVENT
END:VCALENDAR
