BEGIN:VCALENDAR
VERSION:2.0
PRODID:-//OmniMagnetCalendar//EN
BEGIN:VEVENT
DTSTAMP:20190625T195740Z
STATUS:CONFIRMED
UID:hceasternmichigan.clubs.harvard.edu228
DTSTART:20221119T170000Z
DTEND:20221119T200000Z
LOCATION:Bookies Bar & Grill, 2208 Cass Ave., Detroit, MI, 48201, USA,
SUMMARY:THE GAME:  Harvard vs Yale 2022 Watch Party
DESCRIPTION:Location:  Bookies Bar & Grill Detroit                The Game is on!  A rivalry like no other.
BEGIN:VALARM
TRIGGER:-PT15M
ACTION:DISPLAY
END:VALARM
TRANSP:OPAQUE
END:VEVENT
END:VCALENDAR
