BEGIN:VCALENDAR
VERSION:2.0
PRODID:-//OmniMagnetCalendar//EN
BEGIN:VEVENT
DTSTAMP:20190625T195740Z
STATUS:CONFIRMED
UID:hceasternmichigan.clubs.harvard.edu229
DTSTART:20221212T230000Z
DTEND:20221213T010000Z
LOCATION:University of Michigan Museum of Art, 525 S. State Street, Ann Arbor, MI, 48109, USA,
SUMMARY:Ann Arbor Holiday with Yale Club
DESCRIPTION:Location:  University of Michigan Museum of Art                Share in the celebration at this holiday networking event.
BEGIN:VALARM
TRIGGER:-PT15M
ACTION:DISPLAY
END:VALARM
TRANSP:OPAQUE
END:VEVENT
END:VCALENDAR
