BEGIN:VCALENDAR
VERSION:2.0
PRODID:-//OmniMagnetCalendar//EN
BEGIN:VEVENT
DTSTAMP:20190625T195740Z
STATUS:CONFIRMED
UID:hceasternmichigan.clubs.harvard.edu231
DTSTART:20221215T230000Z
DTEND:20221216T000000Z
LOCATION:Royal Park Hotel, 600 E University Dr., Rochester , MI, 48307, USA,
SUMMARY:Member JOLLY HOLLY Happy Hour
DESCRIPTION:Join Harvard Club of Detroit President Greg at the Royal Park in Rochester
BEGIN:VALARM
TRIGGER:-PT15M
ACTION:DISPLAY
END:VALARM
TRANSP:OPAQUE
END:VEVENT
END:VCALENDAR
