BEGIN:VCALENDAR
VERSION:2.0
PRODID:-//OmniMagnetCalendar//EN
BEGIN:VEVENT
DTSTAMP:20190625T195740Z
STATUS:CONFIRMED
UID:hceasternmichigan.clubs.harvard.edu234
DTSTART:20230330T213000Z
DTEND:20230330T233000Z
LOCATION:The Ann Arbor Club, 103 E Liberty St , #300, Ann Arbor , MI, 48104, USA,
SUMMARY:Ann Arbor Club Event
DESCRIPTION:Join Harvard Alumni for a Private Happy Hour -------  Location: The Ann Arbor Club  103 E Liberty St #300 Ann Arbor, MI 48104
BEGIN:VALARM
TRIGGER:-PT15M
ACTION:DISPLAY
END:VALARM
TRANSP:OPAQUE
END:VEVENT
END:VCALENDAR
