BEGIN:VCALENDAR
VERSION:2.0
PRODID:-//OmniMagnetCalendar//EN
BEGIN:VEVENT
DTSTAMP:20190625T195740Z
STATUS:CONFIRMED
UID:hceasternmichigan.clubs.harvard.edu236
DTSTART:20230604T180000Z
DTEND:20230604T210000Z
LOCATION:Townsend Hotel, 100 Townsend St., Birmingham, MI, 48009, USA,
SUMMARY:Lunch Reception with Dr. Steven Kalkanis
DESCRIPTION:Harvard Club of Detroit will host a lunch reception with Dr. Steven Kalkanis, CEO of Henry Ford Hospital & HFMG
BEGIN:VALARM
TRIGGER:-PT15M
ACTION:DISPLAY
END:VALARM
TRANSP:OPAQUE
END:VEVENT
END:VCALENDAR
