BEGIN:VCALENDAR
VERSION:2.0
PRODID:-//OmniMagnetCalendar//EN
BEGIN:VEVENT
DTSTAMP:20190625T195740Z
STATUS:CONFIRMED
UID:hceasternmichigan.clubs.harvard.edu240
DTSTART:20231221T000000Z
DTEND:20231221T023000Z
LOCATION:Meadow Brook Theatre, 378 Meadow Brook Rd., Rochester, MI, 48309, USA,
SUMMARY:Harvard Club of Detroit - Holiday Show! "A Christmas Carol"
DESCRIPTION:Discount tickets for a live performance of the classic tale by Charles Dickens at Meadow Brook Theatre
BEGIN:VALARM
TRIGGER:-PT15M
ACTION:DISPLAY
END:VALARM
TRANSP:OPAQUE
END:VEVENT
END:VCALENDAR
