BEGIN:VCALENDAR
VERSION:2.0
PRODID:-//OmniMagnetCalendar//EN
BEGIN:VEVENT
DTSTAMP:20190625T195740Z
STATUS:CONFIRMED
UID:hceasternmichigan.clubs.harvard.edu243
DTSTART:20240518T170000Z
DTEND:20240518T183000Z
LOCATION:Habitat Detroit Fine Art, 4400 Fernlee, Royal Oak, MI, 48073, USA,
SUMMARY:Harvard Club of Detroit - Habitat Fine Art Detroit
DESCRIPTION:A private tour of exquisite glass sculpture at the Habitat Fine Art Detroit, preceded by an optional self-pay luncheon at Col's in Royal Oak.
BEGIN:VALARM
TRIGGER:-PT15M
ACTION:DISPLAY
END:VALARM
TRANSP:OPAQUE
END:VEVENT
END:VCALENDAR
