BEGIN:VCALENDAR
VERSION:2.0
PRODID:-//OmniMagnetCalendar//EN
BEGIN:VEVENT
DTSTAMP:20190625T195740Z
STATUS:CONFIRMED
UID:hceasternmichigan.clubs.harvard.edu245
DTSTART:20241123T170000Z
DTEND:20241123T200000Z
LOCATION:Palmer Park, Detroit, MI, USA,
SUMMARY:Harvard vs Yale 2024 Watch Party
DESCRIPTION:Location:  Historic Palmer Park               The Game is on!  A rivalry like no other.
BEGIN:VALARM
TRIGGER:-PT15M
ACTION:DISPLAY
END:VALARM
TRANSP:OPAQUE
END:VEVENT
END:VCALENDAR
