BEGIN:VCALENDAR
VERSION:2.0
PRODID:-//OmniMagnetCalendar//EN
BEGIN:VEVENT
DTSTAMP:20190625T195740Z
STATUS:CONFIRMED
UID:hceasternmichigan.clubs.harvard.edu251
DTSTART:20250601T143000Z
DTEND:20250601T160000Z
LOCATION:Michigan Central, 2001 15th Street, Detroit, MI, 48216, USA,
SUMMARY:Harvard Club of Detroit - Michigan Central Private Tour
DESCRIPTION:Join us for a private tour of revitalized Michigan Central Station & optional brunch
BEGIN:VALARM
TRIGGER:-PT15M
ACTION:DISPLAY
END:VALARM
TRANSP:OPAQUE
END:VEVENT
END:VCALENDAR
