BEGIN:VCALENDAR
VERSION:2.0
PRODID:-//OmniMagnetCalendar//EN
BEGIN:VEVENT
DTSTAMP:20190625T195740Z
STATUS:CONFIRMED
UID:hceasternmichigan.clubs.harvard.edu256
DTSTART:20250817T160000Z
DTEND:20250817T200000Z
LOCATION:Kensington Metropark, 4570 Huron River Parkway, Milford, MI, 48381, USA,
SUMMARY:Michigan All-Ivy Summer Event with Harvard Club of Detroit
DESCRIPTION:Join Harvard Alumni for the Michigan All-Ivy Summer Event!  Location: Kensington Metropark
BEGIN:VALARM
TRIGGER:-PT15M
ACTION:DISPLAY
END:VALARM
TRANSP:OPAQUE
END:VEVENT
END:VCALENDAR
