BEGIN:VCALENDAR
VERSION:2.0
PRODID:-//OmniMagnetCalendar//EN
BEGIN:VEVENT
DTSTAMP:20190625T195740Z
STATUS:CONFIRMED
UID:hceasternmichigan.clubs.harvard.edu257
DTSTART:20250812T220000Z
DTEND:20250813T010000Z
LOCATION:By Invitation, MI, USA,
SUMMARY:Back-To-School Reception
DESCRIPTION:Harvard Club of Detroit   By Invitation for Newly Admitted Students
BEGIN:VALARM
TRIGGER:-PT15M
ACTION:DISPLAY
END:VALARM
TRANSP:OPAQUE
END:VEVENT
END:VCALENDAR
