BEGIN:VCALENDAR
VERSION:2.0
PRODID:-//OmniMagnetCalendar//EN
BEGIN:VEVENT
DTSTAMP:20190625T195740Z
STATUS:CONFIRMED
UID:hceasternmichigan.clubs.harvard.edu258
DTSTART:20250907T170000Z
DTEND:20250907T183000Z
LOCATION:Tudor Estate, 19305 Afton Rd. , Detroit, MI, 48203, USA,
SUMMARY:Harvard Club of Detroit - "Wine, Words, and Wisdom with Dr. O'Malley - A Literary Garden Party"
DESCRIPTION:Join us for a Literary Garden Party & Lunch, led by prolific Dr. O'Malley at a Tudor estate.
BEGIN:VALARM
TRIGGER:-PT15M
ACTION:DISPLAY
END:VALARM
TRANSP:OPAQUE
END:VEVENT
END:VCALENDAR
